BEGIN:VCALENDAR
VERSION:2.0
PRODID:-//eventon.com NONSGML v1.0//EN
CALSCALE:GREGORIAN
METHOD:PUBLISH
BEGIN:VEVENT
UID:69ea39cbb21ee
DTSTAMP:20260423T152459Z
DTSTART:20220709T221300Z
DTEND:20220911T215900Z
LOCATION:Bosa C.so Garibaldi
SUMMARY:CALENDARIO ESTIVO BOSA
DESCRIPTION:&nbsp;\nhttps://borghipiubelliditalia.it/evento/calendario-esti
 vo-bosa/
URL:https://borghipiubelliditalia.it/evento/calendario-estivo-bosa/
END:VEVENT
END:VCALENDAR