BEGIN:VCALENDAR
VERSION:2.0
PRODID:-//eventon.com NONSGML v1.0//EN
CALSCALE:GREGORIAN
METHOD:PUBLISH
BEGIN:VEVENT
UID:69ea34442dc91
DTSTAMP:20260423T150124Z
DTSTART:20221203T230700Z
DTEND:20230106T225900Z
LOCATION:Palazzolo Acreide Piazza del Popolo\,  1
SUMMARY:NATALE A PALAZZOLO ACREIDE 2022
DESCRIPTION:\nhttps://borghipiubelliditalia.it/evento/natale-a-palazzolo-ac
 reide-2022/
URL:https://borghipiubelliditalia.it/evento/natale-a-palazzolo-acreide-2022/
END:VEVENT
END:VCALENDAR