BEGIN:VCALENDAR
VERSION:2.0
PRODID:-//eventon.com NONSGML v1.0//EN
CALSCALE:GREGORIAN
METHOD:PUBLISH
BEGIN:VEVENT
UID:69e62b2688dcb
DTSTAMP:20260420T133326Z
DTSTART:20231207T230000Z
DTEND:20240106T225900Z
LOCATION:Boville Ernica Corso Umberto I\,  2
SUMMARY:Natale 2023 a Boville Ernica
DESCRIPTION:\nhttps://borghipiubelliditalia.it/evento/natale-2023-a-boville
 -ernica/
URL:https://borghipiubelliditalia.it/evento/natale-2023-a-boville-ernica/
END:VEVENT
END:VCALENDAR