BEGIN:VCALENDAR
VERSION:2.0
PRODID:-//eventon.com NONSGML v1.0//EN
CALSCALE:GREGORIAN
METHOD:PUBLISH
BEGIN:VEVENT
UID:69ece8df16719
DTSTAMP:20260425T161631Z
DTSTART:20240524T005700Z
DTEND:20240526T235700Z
LOCATION:La Maddalena Piazza Giuseppe Garibaldi 13
SUMMARY:18° raduno regionale Lambretta
DESCRIPTION:Il Lambretta Club Sardegna in collaborazione con il comune di L
 a Maddalena\,  organizzano il 24/25/26 maggio il 18° raduno regionale nel 
 Borgo della nostra isola.\nhttps://borghipiubelliditalia.it/evento/18-radun
 o-regionale-lambretta/
URL:https://borghipiubelliditalia.it/evento/18-raduno-regionale-lambretta/
END:VEVENT
END:VCALENDAR