BEGIN:VCALENDAR
VERSION:2.0
PRODID:-//eventon.com NONSGML v1.0//EN
CALSCALE:GREGORIAN
METHOD:PUBLISH
BEGIN:VEVENT
UID:69e8f74cd8423
DTSTAMP:20260422T162900Z
DTSTART:20240622T180000Z
DTEND:20240622T000000Z
LOCATION:Montemerano PIAZZA MAGENTA 1
SUMMARY:La Notte Romantica dei Borghi piÃ¹ Belli d'Italia
DESCRIPTION:Notte Romantica dei Borghi piÃ¹ Belli d&#8217;Italia Festeggia 
 con il tuo amore la Notte Romantica in uno dei Borghi piÃ¹ Belli d&#8217;It
 alia Ore 17:00 &#8211; in via Italia &#8220;Valori e sapori del territorio&
 #8221;: un viaggio alla scoperta dei nostri prodotti tipici con possibilitÃ
   di degustazione Ore 18:00 &#8211; in via[..]\nhttps://borghipiubellidital
 ia.it/evento/la-notte-romantica-dei-borghi-piu-belli-ditalia/
URL:https://borghipiubelliditalia.it/evento/la-notte-romantica-dei-borghi-piu-belli-ditalia/
END:VEVENT
END:VCALENDAR