BEGIN:VCALENDAR
VERSION:2.0
PRODID:-//eventon.com NONSGML v1.0//EN
CALSCALE:GREGORIAN
METHOD:PUBLISH
BEGIN:VEVENT
UID:69e4d1ea136f9
DTSTAMP:20260419T130026Z
DTSTART:20240720T000500Z
DTEND:20240806T235900Z
LOCATION:Castroreale Piazza Sandro Pertini
SUMMARY:𝐂𝐀𝐒𝐓𝐑𝐎𝐑𝐄𝐀𝐋𝐄 𝐉𝐀𝐙𝐙 𝟐𝟎𝟐𝟒
DESCRIPTION:&nbsp; Il 20 luglio prenderà il via la XXIV edizione del Castr
 oreale jazz festival\,  manifestazione di punta della musica jazz nella Sic
 ilia orientale\,  organizzata dalla Pro Loco Artemisia\,  con la direzione 
 artistica di Pompeo Benincasa.  A partire dal 20 luglio e fino al 6 agosto
  si alterneranno sul palco di[..]\nhttps://borghipiubelliditalia.it/evento/
 %f0%9d%90%82%f0%9d%90%80%f0%9d%90%92%f0%9d%90%93%f0%9d%90%91%f0%9d%90%8e%f0
 %9d%90%91%f0%9d%90%84%f0%9d%90%80%f0%9d%90%8b%f0%9d%90%84-%f0%9d%90%89%f0%9
 d%90%80%f0%9d%90%99%f0%9d%90%99-%f0%9d%9f%90-2/
URL:https://borghipiubelliditalia.it/evento/%f0%9d%90%82%f0%9d%90%80%f0%9d%90%92%f0%9d%90%93%f0%9d%90%91%f0%9d%90%8e%f0%9d%90%91%f0%9d%90%84%f0%9d%90%80%f0%9d%90%8b%f0%9d%90%84-%f0%9d%90%89%f0%9d%90%80%f0%9d%90%99%f0%9d%90%99-%f0%9d%9f%90-2/
END:VEVENT
END:VCALENDAR