BEGIN:VCALENDAR
VERSION:2.0
PRODID:-//eventon.com NONSGML v1.0//EN
CALSCALE:GREGORIAN
METHOD:PUBLISH
BEGIN:VEVENT
UID:69e62ccfe434b
DTSTAMP:20260420T134031Z
DTSTART:20241006T005200Z
DTEND:20241006T235200Z
LOCATION:Castel San Pietro Romano Via Vittorio Veneto 20
SUMMARY:FESTA DEI NONNI 2024
DESCRIPTION:\nhttps://borghipiubelliditalia.it/evento/festa-dei-nonni-2024/
URL:https://borghipiubelliditalia.it/evento/festa-dei-nonni-2024/
END:VEVENT
END:VCALENDAR