BEGIN:VCALENDAR
VERSION:2.0
PRODID:-//eventon.com NONSGML v1.0//EN
CALSCALE:GREGORIAN
METHOD:PUBLISH
BEGIN:VEVENT
UID:69e87511c54d2
DTSTAMP:20260422T071321Z
DTSTART:20241116T000400Z
DTEND:20241116T235900Z
LOCATION:Capranica Prenestina Piazza Aristide Frezza\,  6
SUMMARY:Consegna Bandiera 2024 a Capranica Prenestina
DESCRIPTION:\nhttps://borghipiubelliditalia.it/evento/consegna-bandiera-202
 4-a-capranica-prenestina/
URL:https://borghipiubelliditalia.it/evento/consegna-bandiera-2024-a-capranica-prenestina/
END:VEVENT
END:VCALENDAR