BEGIN:VCALENDAR
VERSION:2.0
PRODID:-//eventon.com NONSGML v1.0//EN
CALSCALE:GREGORIAN
METHOD:PUBLISH
BEGIN:VEVENT
UID:69e4eb4085540
DTSTAMP:20260419T144832Z
DTSTART:20251206T005100Z
DTEND:20251208T235100Z
LOCATION:Bienno P.za Liberazione\,  1
SUMMARY:I mercatini di Natale nel Borgo medievale! 2025
DESCRIPTION:Natale nel Borgo 2025 tra arte\,  tradizione e meraviglia\,  il
  Natale ha il profumo di Bienno &nbsp; Sabato 6 dicembre ore 14.00 alle 22.
 00 Domenica 7 dicembre dalle 10.00 alle 22.00 Lunedì 8 dicembre dalle 10.0
 0 alle 18.00 Tra luci scintillanti\,  profumi di spezie e note natalizie ch
 e risuonano tra[..]\nhttps://borghipiubelliditalia.it/evento/i-mercatini-di
 -natale-nel-borgo-medievale-2025/
URL:https://borghipiubelliditalia.it/evento/i-mercatini-di-natale-nel-borgo-medievale-2025/
END:VEVENT
END:VCALENDAR