BEGIN:VCALENDAR
VERSION:2.0
PRODID:-//eventon.com NONSGML v1.0//EN
CALSCALE:GREGORIAN
METHOD:PUBLISH
BEGIN:VEVENT
UID:69ea35d83246c
DTSTAMP:20260423T150808Z
DTSTART:20251214T090000Z
DTEND:20260106T170000Z
LOCATION:Cison di Valmarino Piazza Roma\,  1
SUMMARY:Mostra dei Presepi per le vie del Borgo di Mura
DESCRIPTION:✨Ancora una volta\,  il pittoresco borgo di Mura\,  incastona
 to nella splendida cornice di Cison di Valmarino\,  invita calorosamente tu
 tti alla Mostra dei Presepi. Le vie\,  i cortili e le case di Mura si trasf
 ormeranno in una vetrina di opere artigianali\,  ciascuna presepe unico nel
  suo genere.✨ Dal 14 dicembre al[..]\nhttps://borghipiubelliditalia.it/ev
 ento/mostra-dei-presepi-per-le-vie-del-borgo-di-mura-2/
URL:https://borghipiubelliditalia.it/evento/mostra-dei-presepi-per-le-vie-del-borgo-di-mura-2/
END:VEVENT
END:VCALENDAR