BEGIN:VCALENDAR
VERSION:2.0
PRODID:-//eventon.com NONSGML v1.0//EN
CALSCALE:GREGORIAN
METHOD:PUBLISH
BEGIN:VEVENT
UID:69e5fa10dae03
DTSTAMP:20260420T100400Z
DTSTART:20260213T000100Z
DTEND:20260213T235900Z
LOCATION:Capranica Prenestina Piazza Aristide Frezza\,  6
SUMMARY:Carnevale in Festa 2026 a Capranica Prenestina
DESCRIPTION:\nhttps://borghipiubelliditalia.it/evento/carnevale-in-festa-20
 26-a-capranica-prenestina/
URL:https://borghipiubelliditalia.it/evento/carnevale-in-festa-2026-a-capranica-prenestina/
END:VEVENT
END:VCALENDAR