BEGIN:VCALENDAR
VERSION:2.0
PRODID:-//eventon.com NONSGML v1.0//EN
CALSCALE:GREGORIAN
METHOD:PUBLISH
BEGIN:VEVENT
UID:69e89d4f31f96
DTSTAMP:20260422T100503Z
DTSTART:20260214T000000Z
DTEND:20260214T235900Z
LOCATION:Cocconato Via Roma 3
SUMMARY:MERCATINO VINTAGE 2026 A COCCONATO
DESCRIPTION:\nhttps://borghipiubelliditalia.it/evento/mercatino-vintage-202
 6-a-cocconato/
URL:https://borghipiubelliditalia.it/evento/mercatino-vintage-2026-a-cocconato/
END:VEVENT
END:VCALENDAR