BEGIN:VCALENDAR
VERSION:2.0
PRODID:-//eventon.com NONSGML v1.0//EN
CALSCALE:GREGORIAN
METHOD:PUBLISH
BEGIN:VEVENT
UID:69ea332151a73
DTSTAMP:20260423T145633Z
DTSTART:20260411T204500Z
DTEND:20260411T220000Z
LOCATION:Rocca sforzesca di Soncino Piazza E. Ferrari
SUMMARY:Soncino Magica
DESCRIPTION:Un percorso insolito dall’atmosfera incantata e suggestiva. D
 al tenebroso fossato della Rocca sforzesca ai simboli magici sparsi per il 
 borgo medioevale; dai busi sotterranei agli enigmatici personaggi che hanno
  calcato il nostro territorio. Da curiosi riferimenti all’Antico Egitto a
 l culto della Dea Madre: il tutto racchiuso all’interno delle secolari mu
 ra[..]\nhttps://borghipiubelliditalia.it/evento/soncino-magica/
URL:https://borghipiubelliditalia.it/evento/soncino-magica/
END:VEVENT
END:VCALENDAR