BEGIN:VCALENDAR
VERSION:2.0
PRODID:-//eventon.com NONSGML v1.0//EN
CALSCALE:GREGORIAN
METHOD:PUBLISH
BEGIN:VEVENT
UID:69e923f6c0392
DTSTAMP:20260422T193934Z
DTSTART:20260425T093000Z
DTEND:20260425T190000Z
LOCATION:Rocca sforzesca di Soncino Piazza E. Ferrari
SUMMARY:Soncino Fantasy
DESCRIPTION:Con Soncino Fantasy la Rocca sforzesca di Soncino (CR) apre le 
 porte al regno della Fantasia! Acquista il biglietto per Soncino Fantasy 20
 26. Una giornata dedicata a tutti gli amanti ed appassionati del mondo fant
 asy\,  con un evento che fa rivivere ai suoi spettatori le più famose sagh
 e fantasy che[..]\nhttps://borghipiubelliditalia.it/evento/soncino-fantasy/
URL:https://borghipiubelliditalia.it/evento/soncino-fantasy/
END:VEVENT
END:VCALENDAR