BEGIN:VCALENDAR
VERSION:2.0
PRODID:-//eventon.com NONSGML v1.0//EN
CALSCALE:GREGORIAN
METHOD:PUBLISH
BEGIN:VEVENT
UID:69ea44a93f08a
DTSTAMP:20260423T161121Z
DTSTART:20260425T000600Z
DTEND:20260425T235900Z
LOCATION:Cocconato Via Roma 3
SUMMARY:13ma edizione "Motogiro delle colline in fiera"
DESCRIPTION:\nhttps://borghipiubelliditalia.it/evento/13ma-edizione-motogir
 o-delle-colline-in-fiera/
URL:https://borghipiubelliditalia.it/evento/13ma-edizione-motogiro-delle-colline-in-fiera/
END:VEVENT
END:VCALENDAR