BEGIN:VCALENDAR
VERSION:2.0
PRODID:-//eventon.com NONSGML v1.0//EN
CALSCALE:GREGORIAN
METHOD:PUBLISH
BEGIN:VEVENT
UID:69e7596c62091
DTSTAMP:20260421T110308Z
DTSTART:20260425T005400Z
DTEND:20260425T235400Z
LOCATION:Cocconato Via Roma 3
SUMMARY:Riviera in Fiera 2026 a Cocconato
DESCRIPTION:\nhttps://borghipiubelliditalia.it/evento/riviera-in-fiera-2026
 -a-cocconato/
URL:https://borghipiubelliditalia.it/evento/riviera-in-fiera-2026-a-cocconato/
END:VEVENT
END:VCALENDAR