BEGIN:VCALENDAR
VERSION:2.0
PRODID:-//eventon.com NONSGML v1.0//EN
CALSCALE:GREGORIAN
METHOD:PUBLISH
BEGIN:VEVENT
UID:69e759a4aa5fc
DTSTAMP:20260421T110404Z
DTSTART:20260503T004200Z
DTEND:20260503T235900Z
LOCATION:Palazzuolo sul Senio Piazza Ettore Alpi\,  1
SUMMARY:3° edizione Palazzuolo Botanico
DESCRIPTION:\nhttps://borghipiubelliditalia.it/evento/3-edizione-palazzuolo
 -botanico/
URL:https://borghipiubelliditalia.it/evento/3-edizione-palazzuolo-botanico/
END:VEVENT
END:VCALENDAR