BEGIN:VCALENDAR
VERSION:2.0
PRODID:-//eventon.com NONSGML v1.0//EN
CALSCALE:GREGORIAN
METHOD:PUBLISH
BEGIN:VEVENT
UID:69ea449c8e939
DTSTAMP:20260423T161108Z
DTSTART:20260425
DTEND:20260426
LOCATION:Bienno P.za Liberazione\,  1
SUMMARY:4a FESTA ZOOTECNICA DELLA VALGRIGNA
DESCRIPTION:La Festa Zootecnica torna a Bienno!  Un weekend speciale da vi
 vere all’aria aperta\,  tra animali\,  tradizioni e sorrisiBienno – Zon
 a Industriale Sabato 25 e Domenica 26 Aprile Grandi e piccoli potranno inco
 ntrare da vicino gli animali protagonisti della Valgrigna\,  scoprire il mo
 ndo rurale\,  respirare profumi autentici e vivere un’esperienza semplice
 …[..]\nhttps://borghipiubelliditalia.it/evento/4a-festa-zootecnica-della-
 valgrigna/
URL:https://borghipiubelliditalia.it/evento/4a-festa-zootecnica-della-valgrigna/
END:VEVENT
END:VCALENDAR