BEGIN:VCALENDAR
VERSION:2.0
PRODID:-//eventon.com NONSGML v1.0//EN
CALSCALE:GREGORIAN
METHOD:PUBLISH
BEGIN:VEVENT
UID:69e7c66ae03d0
DTSTAMP:20260421T184810Z
DTSTART:20260424T100000Z
DTEND:20260503T180100Z
LOCATION:Anghiari Piazza del Popolo\,  9
SUMMARY:ANGHIARI - MOSTRA MERCATO DELL'ARTIGIANATO DI ANGHIARI E DELLA VALTIBERINA TOSCANA
DESCRIPTION:La Mostra Mercato dell’Artigianato di Anghiari è simbolo di 
 tradizione\,  un evento che da più di mezzo secolo valorizza l’eccellenz
 a del fatto a mano\,  unendo passato e futuro. Un percorso tra botteghe e l
 aboratori\,  dove l’arte artigiana continua a vivere\,  innovarsi e sorpr
 endere. Mani sapienti\,  passione autentica\,  e bellezza senza[..]\nhttps:
 //borghipiubelliditalia.it/evento/anghiari-mostra-mercato-dellartigianato-d
 i-anghiari-e-della-valtiberina-toscana/
URL:https://borghipiubelliditalia.it/evento/anghiari-mostra-mercato-dellartigianato-di-anghiari-e-della-valtiberina-toscana/
END:VEVENT
END:VCALENDAR