BEGIN:VCALENDAR
VERSION:2.0
PRODID:-//eventon.com NONSGML v1.0//EN
CALSCALE:GREGORIAN
METHOD:PUBLISH
BEGIN:VEVENT
UID:69e63f6a3736c
DTSTAMP:20260420T145954Z
DTSTART:20260430T000800Z
DTEND:20260517T235900Z
LOCATION:Gualtieri Piazza Bentivoglio\,  26
SUMMARY:Mostra fotografica "Circuito OFF FE 2026"
DESCRIPTION:\nhttps://borghipiubelliditalia.it/evento/mostra-fotografica-ci
 rcuito-off-fe-2026/
URL:https://borghipiubelliditalia.it/evento/mostra-fotografica-circuito-off-fe-2026/
END:VEVENT
END:VCALENDAR