BEGIN:VCALENDAR
VERSION:2.0
PRODID:-//eventon.com NONSGML v1.0//EN
CALSCALE:GREGORIAN
METHOD:PUBLISH
BEGIN:VEVENT
UID:69e640e411b51
DTSTAMP:20260420T150612Z
DTSTART:20260523T001600Z
DTEND:20260523T235900Z
LOCATION:Fontainemore Loc. Capoluogo\,  83
SUMMARY:LABORATORIO BENESSERE ANIMALE 2026
DESCRIPTION:\nhttps://borghipiubelliditalia.it/evento/laboratorio-benessere
 -animale-2026/
URL:https://borghipiubelliditalia.it/evento/laboratorio-benessere-animale-2026/
END:VEVENT
END:VCALENDAR