BEGIN:VCALENDAR
VERSION:2.0
PRODID:-//eventon.com NONSGML v1.0//EN
CALSCALE:GREGORIAN
METHOD:PUBLISH
BEGIN:VEVENT
UID:69eb3deaaec8f
DTSTAMP:20260424T095450Z
DTSTART:20260516T001600Z
DTEND:20260516T235900Z
LOCATION:Fontainemore Loc. Capoluogo\,  83
SUMMARY:LABORATORIO DI YOGA 2026
DESCRIPTION:\nhttps://borghipiubelliditalia.it/evento/laboratorio-di-yoga-2
 026/
URL:https://borghipiubelliditalia.it/evento/laboratorio-di-yoga-2026/
END:VEVENT
END:VCALENDAR