BEGIN:VCALENDAR
VERSION:2.0
PRODID:-//eventon.com NONSGML v1.0//EN
CALSCALE:GREGORIAN
METHOD:PUBLISH
BEGIN:VEVENT
UID:69e67a758b250
DTSTAMP:20260420T191149Z
DTSTART:20260509T001600Z
DTEND:20260509T235900Z
LOCATION:Fontainemore Loc. Capoluogo\,  83
SUMMARY:laboratorio di ZUMBA
DESCRIPTION:\nhttps://borghipiubelliditalia.it/evento/laboratorio-di-zumba/
URL:https://borghipiubelliditalia.it/evento/laboratorio-di-zumba/
END:VEVENT
END:VCALENDAR