BEGIN:VCALENDAR
VERSION:2.0
PRODID:-//eventon.com NONSGML v1.0//EN
CALSCALE:GREGORIAN
METHOD:PUBLISH
BEGIN:VEVENT
UID:69e6692a65df0
DTSTAMP:20260420T175802Z
DTSTART:20260502T001500Z
DTEND:20260502T235900Z
LOCATION:Paganico Sabino
SUMMARY:Anonima Armonisti
DESCRIPTION:\nhttps://borghipiubelliditalia.it/evento/anonima-armonisti/
URL:https://borghipiubelliditalia.it/evento/anonima-armonisti/
END:VEVENT
END:VCALENDAR