BEGIN:VCALENDAR
VERSION:2.0
PRODID:-//eventon.com NONSGML v1.0//EN
CALSCALE:GREGORIAN
METHOD:PUBLISH
BEGIN:VEVENT
UID:69e667788c80c
DTSTAMP:20260420T175048Z
DTSTART:20260502T002300Z
DTEND:20260614T235900Z
LOCATION:borghi valle del Turano
SUMMARY:Eventi 2026 Valle del Turano
DESCRIPTION:\nhttps://borghipiubelliditalia.it/evento/eventi-2026-valle-del
 -turano/
URL:https://borghipiubelliditalia.it/evento/eventi-2026-valle-del-turano/
END:VEVENT
END:VCALENDAR