BEGIN:VCALENDAR
VERSION:2.0
PRODID:-//eventon.com NONSGML v1.0//EN
CALSCALE:GREGORIAN
METHOD:PUBLISH
BEGIN:VEVENT
UID:69e7c7d732c9d
DTSTAMP:20260421T185415Z
DTSTART:20260501T000000Z
DTEND:20260501T235900Z
LOCATION:Cervignano del Friuli Piazza Indipendenza\,  1
SUMMARY:Borgo diVino in tour edizione speciale "Strassoldo\,  Gradisca d’Isonzo\,  Palmanova"
DESCRIPTION:1\,  2\,  3 Maggio: Borgo diVino in tour edizione speciale. Vis
 ite guidate e degustazioni di vino nel cuore di tre dei Borghi più belli d
 ’Italia in Friuli Venezia Giulia (Strassoldo\,  Gradisca d’Isonzo\,  Pa
 lmanova) &nbsp; Il fine settimana del 1º\,  2 e 3 Maggio arriva in Friuli 
 Venezia Giulia un’edizione speciale[..]\nhttps://borghipiubelliditalia.it
 /evento/borgo-divino-in-tour-edizione-speciale-strassoldo-gradisca-disonzo-
 palmanova-2/
URL:https://borghipiubelliditalia.it/evento/borgo-divino-in-tour-edizione-speciale-strassoldo-gradisca-disonzo-palmanova-2/
END:VEVENT
END:VCALENDAR