BEGIN:VCALENDAR
VERSION:2.0
PRODID:-//eventon.com NONSGML v1.0//EN
CALSCALE:GREGORIAN
METHOD:PUBLISH
BEGIN:VEVENT
UID:69e7c7fec06d2
DTSTAMP:20260421T185454Z
DTSTART:20260425T004600Z
DTEND:20260425T234600Z
LOCATION:San Benedetto Po Comune di San Benedetto Po
SUMMARY:Celebrazioni Istituzionali del 25 Aprile
DESCRIPTION:\nhttps://borghipiubelliditalia.it/evento/celebrazioni-istituzi
 onali-del-25-aprile-2/
URL:https://borghipiubelliditalia.it/evento/celebrazioni-istituzionali-del-25-aprile-2/
END:VEVENT
END:VCALENDAR