BEGIN:VCALENDAR
VERSION:2.0
PRODID:-//eventon.com NONSGML v1.0//EN
CALSCALE:GREGORIAN
METHOD:PUBLISH
BEGIN:VEVENT
UID:69e7c5e656af5
DTSTAMP:20260421T184558Z
DTSTART:20260501T004600Z
DTEND:20260501T234600Z
LOCATION:San Benedetto Po Comune di San Benedetto Po
SUMMARY:Celebrazioni Istituzionali del 1 Maggio
DESCRIPTION:\nhttps://borghipiubelliditalia.it/evento/celebrazioni-istituzi
 onali-del-1-maggio-2/
URL:https://borghipiubelliditalia.it/evento/celebrazioni-istituzionali-del-1-maggio-2/
END:VEVENT
END:VCALENDAR