BEGIN:VCALENDAR
VERSION:2.0
PRODID:-//eventon.com NONSGML v1.0//EN
CALSCALE:GREGORIAN
METHOD:PUBLISH
BEGIN:VEVENT
UID:69ea44e16056c
DTSTAMP:20260423T161217Z
DTSTART:20260501T000000Z
DTEND:20260501T235900Z
LOCATION:Santa Severina Piazza Campo
SUMMARY:IX Festa Medievale
DESCRIPTION:&nbsp; Il 1° maggio 2026 Santa Severina (KR) invita tutti a 
 fare un salto nella storia con la IX Festa Medievale. Passeggiando tra vic
 oli illuminati da torce e sotto lo sguardo del maestoso Castello Normanno\,
   sarà facile lasciarsi trasportare indietro nel tempo in un’atmosfera f
 atta di racconti\,  suggestioni e antiche leggende. Quest’anno il[..]\nht
 tps://borghipiubelliditalia.it/evento/ix-festa-medievale/
URL:https://borghipiubelliditalia.it/evento/ix-festa-medievale/
END:VEVENT
END:VCALENDAR