BEGIN:VCALENDAR
VERSION:2.0
PRODID:-//eventon.com NONSGML v1.0//EN
CALSCALE:GREGORIAN
METHOD:PUBLISH
BEGIN:VEVENT
UID:69ea44a93efb4
DTSTAMP:20260423T161121Z
DTSTART:20260510T003900Z
DTEND:20260510T235900Z
LOCATION:Sesto al Reghena Via Roma\,  1
SUMMARY:FESTA DI PRIMAVERA LUNGO LE VIE DELL’ABBAZIA 2026
DESCRIPTION:FESTA DI PRIMAVERA LUNGO LE VIE DELL’ABBAZIA A SESTO AL REGHE
 NA DOMENICA 10 MAGGIO  Primo evento da quando il Comune ha vinto il titolo
  di Borgo Attrattivo d’Italia Cresce l’attesa per l’edizione 2026 di 
 “Festa di Primavera lungo le Vie dell’Abbazia”\,  celebrazione della 
 bella stagione che si terrà domenica 10[..]\nhttps://borghipiubelliditalia
 .it/evento/festa-di-primavera-lungo-le-vie-dellabbazia-2026/
URL:https://borghipiubelliditalia.it/evento/festa-di-primavera-lungo-le-vie-dellabbazia-2026/
END:VEVENT
END:VCALENDAR