BEGIN:VCALENDAR
VERSION:2.0
PRODID:-//eventon.com NONSGML v1.0//EN
CALSCALE:GREGORIAN
METHOD:PUBLISH
BEGIN:VEVENT
UID:69ea449c8d3b1
DTSTAMP:20260423T161108Z
DTSTART:20260424T005000Z
DTEND:20260424T235000Z
LOCATION:Deiva Marina Comune\,  Corso Italia\,  85\, 
SUMMARY:Celebrazioni dell'81Â° anniversario della Liberazione a Deiva Marina
DESCRIPTION:In occasione delle celebrazioni dell&#8217;81Â° anniversario de
 lla Liberazione\, Â per onorare la memoria di chi ha lottato per la libertÃ
  \,  la democrazia e la Costituzione italiana\, Â si inviano in allegato le
  iniziative che il Comune di Deiva Marina organizza in collaborazione con l
 a locale sezione ANPI Deiva M./Framura per i cittadini e le[..]\nhttps://bo
 rghipiubelliditalia.it/evento/celebrazioni-dell81-anniversario-della-libera
 zione-a-deiva-marina/
URL:https://borghipiubelliditalia.it/evento/celebrazioni-dell81-anniversario-della-liberazione-a-deiva-marina/
END:VEVENT
END:VCALENDAR