BEGIN:VCALENDAR
VERSION:2.0
PRODID:-//eventon.com NONSGML v1.0//EN
CALSCALE:GREGORIAN
METHOD:PUBLISH
BEGIN:VEVENT
UID:69ea4496f108b
DTSTAMP:20260423T161102Z
DTSTART:20260501T003200Z
DTEND:20260503T235900Z
LOCATION:Castagnole delle Lanze Via Ruscone\,  9
SUMMARY:Castagnole delle Lanze celebra la Festa dell’Imbottigliamento e il 30° Anniversario di Gemellaggio
DESCRIPTION:Castagnole delle Lanze celebra la Festa dell’Imbottigliamento
  e il 30° Anniversario di Gemellaggio Castagnole delle Lanze (AT) – Dal 
 1° al 3 maggio 2026 il centro storico di Castagnole delle Lanze ospiterà 
 la tradizionale Festa dell’Imbottigliamento\,  tre giorni dedicati al vi
 no\,  alla tradizione e all’amicizia tra popoli. L’edizione 2026 assume
  un[..]\nhttps://borghipiubelliditalia.it/evento/castagnole-delle-lanze-cel
 ebra-la-festa-dellimbottigliamento-e-il-30-anniversario-di-gemellaggio/
URL:https://borghipiubelliditalia.it/evento/castagnole-delle-lanze-celebra-la-festa-dellimbottigliamento-e-il-30-anniversario-di-gemellaggio/
END:VEVENT
END:VCALENDAR