BEGIN:VCALENDAR
VERSION:2.0
PRODID:-//eventon.com NONSGML v1.0//EN
CALSCALE:GREGORIAN
METHOD:PUBLISH
BEGIN:VEVENT
UID:69eb5026440af
DTSTAMP:20260424T111238Z
DTSTART:20260502T004300Z
DTEND:20260502T235900Z
LOCATION:Capranica Prenestina Piazza Aristide Frezza\,  6
SUMMARY:Cerimonia inaugurale "Ostello di Guadagnolo"
DESCRIPTION:\nhttps://borghipiubelliditalia.it/evento/cerimonia-inaugurale-
 ostello-di-guadagnolo/
URL:https://borghipiubelliditalia.it/evento/cerimonia-inaugurale-ostello-di-guadagnolo/
END:VEVENT
END:VCALENDAR