BEGIN:VCALENDAR
VERSION:2.0
PRODID:-//eventon.com NONSGML v1.0//EN
CALSCALE:GREGORIAN
METHOD:PUBLISH
BEGIN:VEVENT
UID:69eb4fe1f36d7
DTSTAMP:20260424T111129Z
DTSTART:20260503T000000Z
DTEND:20260503T235900Z
LOCATION:Castel San Pietro Romano Via Vittorio Veneto 20
SUMMARY:Festa San Clemente Martire 2026
DESCRIPTION:\nhttps://borghipiubelliditalia.it/evento/festa-san-clemente-ma
 rtire-2026/
URL:https://borghipiubelliditalia.it/evento/festa-san-clemente-martire-2026/
END:VEVENT
END:VCALENDAR