BEGIN:VCALENDAR
VERSION:2.0
PRODID:-//eventon.com NONSGML v1.0//EN
CALSCALE:GREGORIAN
METHOD:PUBLISH
BEGIN:VEVENT
UID:69eb539010f02
DTSTAMP:20260424T112712Z
DTSTART:20260426T000000Z
DTEND:20260426T235900Z
LOCATION:Castel San Pietro Romano Via Vittorio Veneto 20
SUMMARY:Escursione guidata al Formale e percorso Akropolis
DESCRIPTION:\nhttps://borghipiubelliditalia.it/evento/escursione-guidata-al
 -formale-e-percorso-akropolis/
URL:https://borghipiubelliditalia.it/evento/escursione-guidata-al-formale-e-percorso-akropolis/
END:VEVENT
END:VCALENDAR