BEGIN:VCALENDAR
VERSION:2.0
PRODID:-//eventon.com NONSGML v1.0//EN
CALSCALE:GREGORIAN
METHOD:PUBLISH
BEGIN:VEVENT
UID:69eb4f1a59329
DTSTAMP:20260424T110810Z
DTSTART:20260501T000000Z
DTEND:20260501T235900Z
LOCATION:Rocca di Cave
SUMMARY:1° maggio in Montagna
DESCRIPTION:\nhttps://borghipiubelliditalia.it/evento/1-maggio-in-montagna/
URL:https://borghipiubelliditalia.it/evento/1-maggio-in-montagna/
END:VEVENT
END:VCALENDAR