BEGIN:VCALENDAR
VERSION:2.0
PRODID:-//eventon.com NONSGML v1.0//EN
CALSCALE:GREGORIAN
METHOD:PUBLISH
BEGIN:VEVENT
UID:69eb4f1a60a86
DTSTAMP:20260424T110810Z
DTSTART:20260524T090000Z
DTEND:20260524T180000Z
LOCATION:Roseto Valfortore Piazza Sant'Antonio\,  1
SUMMARY:Monte Cornacchia E-Bike\,  torna la pedalata tra i Monti Dauni: domenica 24 maggio la quarta edizione
DESCRIPTION:Domenica 24 maggio torna uno degli appuntamenti più attesi dag
 li amanti delle due ruote e della natura: la quarta edizione di Monte Corn
 acchia E-Bike &#8211; Pedalando i Monti Dauni\,  manifestazione cicloturist
 ica che unisce sport\,  paesaggio e convivialità nel cuore della Puglia. L
 ’evento\,  promosso dal Comune di Roseto Valfortore insieme alla Pro L
 oco\,  alla Protezione Civile[..]\nhttps://borghipiubelliditalia.it/evento
 /monte-cornacchia-e-bike-torna-la-pedalata-tra-i-monti-dauni-domenica-24-ma
 ggio-la-quarta-edizione/
URL:https://borghipiubelliditalia.it/evento/monte-cornacchia-e-bike-torna-la-pedalata-tra-i-monti-dauni-domenica-24-maggio-la-quarta-edizione/
END:VEVENT
END:VCALENDAR