BEGIN:VCALENDAR
VERSION:2.0
PRODID:-//eventon.com NONSGML v1.0//EN
CALSCALE:GREGORIAN
METHOD:PUBLISH
BEGIN:VEVENT
UID:69ebdf9eaa1ba
DTSTAMP:20260424T212446Z
DTSTART:20200730T200000Z
DTEND:20200816T200000Z
LOCATION:https://it-it.facebook.com/visitbondone/
SUMMARY:Bondone in strada
DESCRIPTION:L’edizione 2020 di Bondone in strada sarà esclusivamente dig
 ital. Un viaggio di 10 tappe alla scoperta del caratteristico borgo trentin
 o\,  accompagnati dagli abitanti che hanno fatto di un antico mestiere o de
 lla loro professione un’arte. • PROGRAMMAZIONE La mini-serie andrà in 
 onda dal 30 luglio al 16 agosto sui canali[..]\nhttps://borghipiubellidital
 ia.it/evento/bondone-in-strada/var/event_access
URL:https://borghipiubelliditalia.it/evento/bondone-in-strada/var/event_access
END:VEVENT
END:VCALENDAR