BEGIN:VCALENDAR
VERSION:2.0
PRODID:-//eventon.com NONSGML v1.0//EN
CALSCALE:GREGORIAN
METHOD:PUBLISH
BEGIN:VEVENT
UID:69e7b3191233d
DTSTAMP:20260421T172545Z
DTSTART:20200810T000000Z
DTEND:20200810T000000Z
LOCATION:Apricale Via Cavour 2
SUMMARY:Borgo dei Desideri a Apricale
DESCRIPTION:&nbsp;\nhttps://borghipiubelliditalia.it/evento/borgo-dei-desid
 eri-a-apricale/
URL:https://borghipiubelliditalia.it/evento/borgo-dei-desideri-a-apricale/
END:VEVENT
END:VCALENDAR